BEGIN:VCALENDAR
VERSION:2.0
PRODID:-//Brock - ECPv6.15.20//NONSGML v1.0//EN
CALSCALE:GREGORIAN
METHOD:PUBLISH
X-ORIGINAL-URL:https://brockband.nl
X-WR-CALDESC:Evenementen voor Brock
REFRESH-INTERVAL;VALUE=DURATION:PT1H
X-Robots-Tag:noindex
X-PUBLISHED-TTL:PT1H
BEGIN:VTIMEZONE
TZID:Europe/Helsinki
BEGIN:DAYLIGHT
TZOFFSETFROM:+0200
TZOFFSETTO:+0300
TZNAME:EEST
DTSTART:20250330T010000
END:DAYLIGHT
BEGIN:STANDARD
TZOFFSETFROM:+0300
TZOFFSETTO:+0200
TZNAME:EET
DTSTART:20251026T010000
END:STANDARD
BEGIN:DAYLIGHT
TZOFFSETFROM:+0200
TZOFFSETTO:+0300
TZNAME:EEST
DTSTART:20260329T010000
END:DAYLIGHT
BEGIN:STANDARD
TZOFFSETFROM:+0300
TZOFFSETTO:+0200
TZNAME:EET
DTSTART:20261025T010000
END:STANDARD
BEGIN:DAYLIGHT
TZOFFSETFROM:+0200
TZOFFSETTO:+0300
TZNAME:EEST
DTSTART:20270328T010000
END:DAYLIGHT
BEGIN:STANDARD
TZOFFSETFROM:+0300
TZOFFSETTO:+0200
TZNAME:EET
DTSTART:20271031T010000
END:STANDARD
END:VTIMEZONE
BEGIN:VEVENT
DTSTART;TZID=Europe/Helsinki:20260124T200000
DTEND;TZID=Europe/Helsinki:20260125T010000
DTSTAMP:20260420T070514
CREATED:20260111T095131Z
LAST-MODIFIED:20260111T095131Z
UID:1973-1769284800-1769302800@brockband.nl
SUMMARY:Bandjes avond Hekendorp
DESCRIPTION:Samen met trio Ome Lou gaat dit ongetwijfeld weer een mooie avond worden! \nhttps://www.facebook.com/share/14TsJeAvcSS/?mibextid=wwXIfr \n 
URL:https://brockband.nl/event/bandjes-avond-hekendorp/
LOCATION:de boezem hekendorp\, Hekendorp\, Netherlands
END:VEVENT
END:VCALENDAR