BEGIN:VCALENDAR
VERSION:2.0
PRODID:-//Brock - ECPv6.15.20//NONSGML v1.0//EN
CALSCALE:GREGORIAN
METHOD:PUBLISH
X-WR-CALNAME:Brock
X-ORIGINAL-URL:https://brockband.nl
X-WR-CALDESC:Evenementen voor Brock
REFRESH-INTERVAL;VALUE=DURATION:PT1H
X-Robots-Tag:noindex
X-PUBLISHED-TTL:PT1H
BEGIN:VTIMEZONE
TZID:Europe/Helsinki
BEGIN:DAYLIGHT
TZOFFSETFROM:+0200
TZOFFSETTO:+0300
TZNAME:EEST
DTSTART:20220327T010000
END:DAYLIGHT
BEGIN:STANDARD
TZOFFSETFROM:+0300
TZOFFSETTO:+0200
TZNAME:EET
DTSTART:20221030T010000
END:STANDARD
BEGIN:DAYLIGHT
TZOFFSETFROM:+0200
TZOFFSETTO:+0300
TZNAME:EEST
DTSTART:20230326T010000
END:DAYLIGHT
BEGIN:STANDARD
TZOFFSETFROM:+0300
TZOFFSETTO:+0200
TZNAME:EET
DTSTART:20231029T010000
END:STANDARD
BEGIN:DAYLIGHT
TZOFFSETFROM:+0200
TZOFFSETTO:+0300
TZNAME:EEST
DTSTART:20240331T010000
END:DAYLIGHT
BEGIN:STANDARD
TZOFFSETFROM:+0300
TZOFFSETTO:+0200
TZNAME:EET
DTSTART:20241027T010000
END:STANDARD
END:VTIMEZONE
BEGIN:VEVENT
DTSTART;TZID=Europe/Helsinki:20231028T200000
DTEND;TZID=Europe/Helsinki:20231028T235900
DTSTAMP:20260419T223220
CREATED:20230808T121545Z
LAST-MODIFIED:20230808T121545Z
UID:1706-1698523200-1698537540@brockband.nl
SUMMARY:Brock live in Cafe het Kippenhok - Klaaswaal
DESCRIPTION:We komen weer terug naar Klaaswaal\, vorig jaar was het al een mooi feest maar nu gaan we het dak van het kippenhok er helemaal afspelen. \n  \n 
URL:https://brockband.nl/event/brock-live-in-cafe-het-kippenhok-klaaswaal/
LOCATION:Cafe het Kippenhok\, Voorstraat 27\, Klaaswaal\, 3286 AX\, Nederland
ATTACH;FMTTYPE=image/png:https://brockband.nl/wp-content/uploads/2023/05/kippenhok-logo-wit-klein-met-schaduw.png
END:VEVENT
END:VCALENDAR